BEGIN:VCALENDAR
VERSION:2.0
PRODID:-//ChamberMaster//Event Calendar 2.0//EN
METHOD:PUBLISH
X-PUBLISHED-TTL:P1H
REFRESH-INTERVAL:P1H
CALSCALE:GREGORIAN
BEGIN:VTIMEZONE
TZID:America/Los_Angeles
BEGIN:DAYLIGHT
RRULE:FREQ=YEARLY;BYMONTH=3;BYDAY=2SU
DTSTART:20070101T000000
TZOFFSETFROM:-0800
TZOFFSETTO:-0700
TZNAME:Pacific Daylight Time
END:DAYLIGHT
BEGIN:STANDARD
RRULE:FREQ=YEARLY;BYMONTH=11;BYDAY=1SU
DTSTART:20070101T000000
TZOFFSETFROM:-0700
TZOFFSETTO:-0800
TZNAME:Pacific Standard Time
END:STANDARD
END:VTIMEZONE
BEGIN:VEVENT
DTSTART;TZID=America/Los_Angeles:20260509T080000
DTEND;TZID=America/Los_Angeles:20260509T100000
X-MICROSOFT-CDO-ALLDAYEVENT:FALSE
SUMMARY:Kiwanis Pancake Breakfast at The Berry Festival
DESCRIPTION:IF YOU BUY BREAKFAST TICKETS FROM KIWANIS YOU GET ALL DAY ENTRY AND A FREE BREAKFAST. \nALSO\, YOU ARE HELPING WOODLAND KIWANIS HELP MORE KIDS!\nYou are invited to the following event:\nBerryFest Breakfast & All Day Entry Fee\nWhen: 9 May 2026 8:00 AM\, PDT\nWhere: Rotary Park - Woodland Fairgrounds
X-ALT-DESC;FMTTYPE=text/html:IF YOU BUY BREAKFAST TICKETS FROM KIWANIS YOU GET ALL DAY ENTRY AND A FREE BREAKFAST. \nALSO\, YOU ARE HELPING WOODLAND KIWANIS HELP MORE KIDS!\nYou are invited to the following event:\nBerryFest Breakfast & All Day Entry Fee\nWhen: 9 May 2026 8:00 AM\, PDT\nWhere: Rotary Park - Woodland Fairgrounds
LOCATION:1250 East Gum Avenue Woodland CA 95776
UID:e.2311.1450126
SEQUENCE:3
DTSTAMP:20260425T151913Z
URL:https://members.woodlandchamber.org/chamber-calendar/Details/kiwanis-pancake-breakfast-at-the-berry-festival-1717706?sourceTypeId=Hub
END:VEVENT
END:VCALENDAR
